BEGIN:VCALENDAR
VERSION:2.0
PRODID:-//PIONEER alliance - ECPv6.15.18//NONSGML v1.0//EN
CALSCALE:GREGORIAN
METHOD:PUBLISH
X-WR-CALNAME:PIONEER alliance
X-ORIGINAL-URL:https://pioneer.uniza.sk
X-WR-CALDESC:Events for PIONEER alliance
REFRESH-INTERVAL;VALUE=DURATION:PT1H
X-Robots-Tag:noindex
X-PUBLISHED-TTL:PT1H
BEGIN:VTIMEZONE
TZID:Europe/Bratislava
BEGIN:DAYLIGHT
TZOFFSETFROM:+0100
TZOFFSETTO:+0200
TZNAME:CEST
DTSTART:20250330T010000
END:DAYLIGHT
BEGIN:STANDARD
TZOFFSETFROM:+0200
TZOFFSETTO:+0100
TZNAME:CET
DTSTART:20251026T010000
END:STANDARD
BEGIN:DAYLIGHT
TZOFFSETFROM:+0100
TZOFFSETTO:+0200
TZNAME:CEST
DTSTART:20260329T010000
END:DAYLIGHT
BEGIN:STANDARD
TZOFFSETFROM:+0200
TZOFFSETTO:+0100
TZNAME:CET
DTSTART:20261025T010000
END:STANDARD
BEGIN:DAYLIGHT
TZOFFSETFROM:+0100
TZOFFSETTO:+0200
TZNAME:CEST
DTSTART:20270328T010000
END:DAYLIGHT
BEGIN:STANDARD
TZOFFSETFROM:+0200
TZOFFSETTO:+0100
TZNAME:CET
DTSTART:20271031T010000
END:STANDARD
END:VTIMEZONE
BEGIN:VEVENT
DTSTART;VALUE=DATE:20260615
DTEND;VALUE=DATE:20260620
DTSTAMP:20260421T232514
CREATED:20260318T143117Z
LAST-MODIFIED:20260319T140320Z
UID:999957951-1781481600-1781913599@pioneer.uniza.sk
SUMMARY:PIONEER BIP – Transformative Engagement: Universities Catalyzing Vulnerable Neighborhood Regeneration
DESCRIPTION:  \n📅 Physical Activity: 15–19 June 2026📍 Venue: Paris – Champs-sur-Marne\, France \n⏰ Application Deadline:6 April 2026\, 13:00 \n🎯 Objectives:The programme aims to strengthen collaboration among students\, PhD candidates\, faculty members\, researchers\, and local stakeholders involved in community regeneration processes. \n📚 Subject Area:Human and Social Sciences \n💻 Virtual Activity: \n\n\n8 June 2026 \n\n\n29 June 2026 \n\n\n👥 Eligibility:Staff and students (final-year Master’s and PhD candidates) \n🎓 Recognition:Certificate equivalent to 3 ECTS \n📩 Contacts: \n\n\nThematic & Programme Information:Cathy Veil (cathy.veil@univ-eiffel.fr)Sylvie Mercier (sylvie.mercier@univ-eiffel.fr) \n\n\nApplication Process:Julien Boucly (julien.boucly2@univ-eiffel.fr)
URL:https://pioneer.uniza.sk/event/pioneer-bip-transformative-engagement-universities-catalyzing-vulnerable-neighborhood-regeneration/
ATTACH;FMTTYPE=image/jpeg:https://pioneer.uniza.sk/wp-content/uploads/2026/03/Uni-Eiffel-1-scaled.jpg
END:VEVENT
END:VCALENDAR