BEGIN:VCALENDAR
VERSION:2.0
PRODID:-//PIONEER alliance - ECPv6.15.18//NONSGML v1.0//EN
CALSCALE:GREGORIAN
METHOD:PUBLISH
X-ORIGINAL-URL:https://pioneer.uniza.sk
X-WR-CALDESC:Events for PIONEER alliance
REFRESH-INTERVAL;VALUE=DURATION:PT1H
X-Robots-Tag:noindex
X-PUBLISHED-TTL:PT1H
BEGIN:VTIMEZONE
TZID:Europe/Bratislava
BEGIN:DAYLIGHT
TZOFFSETFROM:+0100
TZOFFSETTO:+0200
TZNAME:CEST
DTSTART:20230326T010000
END:DAYLIGHT
BEGIN:STANDARD
TZOFFSETFROM:+0200
TZOFFSETTO:+0100
TZNAME:CET
DTSTART:20231029T010000
END:STANDARD
BEGIN:DAYLIGHT
TZOFFSETFROM:+0100
TZOFFSETTO:+0200
TZNAME:CEST
DTSTART:20240331T010000
END:DAYLIGHT
BEGIN:STANDARD
TZOFFSETFROM:+0200
TZOFFSETTO:+0100
TZNAME:CET
DTSTART:20241027T010000
END:STANDARD
BEGIN:DAYLIGHT
TZOFFSETFROM:+0100
TZOFFSETTO:+0200
TZNAME:CEST
DTSTART:20250330T010000
END:DAYLIGHT
BEGIN:STANDARD
TZOFFSETFROM:+0200
TZOFFSETTO:+0100
TZNAME:CET
DTSTART:20251026T010000
END:STANDARD
END:VTIMEZONE
BEGIN:VEVENT
DTSTART;VALUE=DATE:20240416
DTEND;VALUE=DATE:20240511
DTSTAMP:20260423T003928
CREATED:20240126T055226Z
LAST-MODIFIED:20240126T055226Z
UID:999957106-1713225600-1715385599@pioneer.uniza.sk
SUMMARY:PIONEER Blended Intensive Programme (BIP) "Service Design & Marketing in Social Innovation" 2024 at TH Köln
DESCRIPTION:Hybrid project phase \n  \nPIONEER partners TH Köln (DE)\, Laurea University of Applied Sciences (FI) and ISCTE University Institute of Lisbon (PT) are collaborating on an exciting international education program. \nThe Blended Intensive Program (BIP) “Service Design & Marketing in Social Innovation” provides the unique opportunity to learn about Service Design and Marketing in the context of Social Innovation in an interdisciplinary and international team. \nMore information \n  \nIlluminated Cologne Cathedral with the Rheinau Harbor (Rheinauhafen) buildings at night
URL:https://pioneer.uniza.sk/event/pioneer-blended-intensive-programme-bip-service-design-marketing-in-social-innovation-2024-at-th-koln/
LOCATION:TH Köln\, Germany
END:VEVENT
END:VCALENDAR